BEGIN:VCALENDAR
VERSION:2.0
PRODID:-//Matthew Smiles - ECPv5.10.1//NONSGML v1.0//EN
CALSCALE:GREGORIAN
METHOD:PUBLISH
X-WR-CALNAME:Matthew Smiles
X-ORIGINAL-URL:https://matthew-smiles.org
X-WR-CALDESC:Events for Matthew Smiles
BEGIN:VTIMEZONE
TZID:America/New_York
BEGIN:DAYLIGHT
TZOFFSETFROM:-0500
TZOFFSETTO:-0400
TZNAME:EDT
DTSTART:20210314T070000
END:DAYLIGHT
BEGIN:STANDARD
TZOFFSETFROM:-0400
TZOFFSETTO:-0500
TZNAME:EST
DTSTART:20211107T060000
END:STANDARD
END:VTIMEZONE
BEGIN:VEVENT
DTSTART;VALUE=DATE:20211216
DTEND;VALUE=DATE:20211219
DTSTAMP:20260421T113233
CREATED:20211130T230641Z
LAST-MODIFIED:20211204T014546Z
UID:1838-1639612800-1639871999@matthew-smiles.org
SUMMARY:Dunkin' Matthew Smiles Donut Fundraiser
DESCRIPTION:From Thursday\, December 16 through Saturday\, December 18\, guests who donate $1.50 to Matthew Smiles at participating Dunkin’ restaurants in Richmond\, Norfolk and Outer Banks will receive a specialty Matthew Smiles Donut as a thank you.* \nDunkin’ and the Matthew Smiles Foundation is helping to spread hope and shine a light on the importance of mental health.  One hundred percent of funds raised will benefit Matthew Smiles’ mission to help fund programs and resources that foster education around mental health and create stable\, non-threatening environments for kids to be open about their mental health with their families and one another. \n“Our family is proud to have an opportunity to help others through this fundraiser and spread positivity around Matthew’s legacy\,” said Lou Cabral\, Dunkin’ Franchisee and Co-Founder of Matthew Smiles. “We’re incredibly grateful to our fellow Virginia Dunkin’ franchisees for their support of our cause. Together\, we can continue to educate our youth and provide support for those suffering from depression.” \nFor more information on Matthew Smiles and its mental health resources\, visit www.Matthew-Smiles.org. \nWHEN:\nThursday\, December 16-18 \nWHERE:\nParticipating Dunkin’ locations throughout Richmond\, Norfolk and Outer Banks \n*While supplies last at participating Dunkin’ restaurants in Richmond\, Norfolk and Outer Banks.
URL:https://matthew-smiles.org/event/dunkin-donut-fundraiser-2021/
CATEGORIES:Dunkin',Fundraising
ATTACH;FMTTYPE=image/jpeg:https://matthew-smiles.org/wp-content/uploads/2021/11/Dunkin-Promotion-1221-1.jpg
ORGANIZER;CN="Matthew%20Smiles":MAILTO:info@matthewsmiles.org
END:VEVENT
END:VCALENDAR